BEGIN:VCALENDAR
VERSION:2.0
PRODID:-//Kulturforum Amriswil - ECPv6.15.16//NONSGML v1.0//EN
CALSCALE:GREGORIAN
METHOD:PUBLISH
X-WR-CALNAME:Kulturforum Amriswil
X-ORIGINAL-URL:https://www.kulturforum-amriswil.ch
X-WR-CALDESC:Veranstaltungen für Kulturforum Amriswil
REFRESH-INTERVAL;VALUE=DURATION:PT1H
X-Robots-Tag:noindex
X-PUBLISHED-TTL:PT1H
BEGIN:VTIMEZONE
TZID:Europe/Zurich
BEGIN:DAYLIGHT
TZOFFSETFROM:+0100
TZOFFSETTO:+0200
TZNAME:CEST
DTSTART:20250330T010000
END:DAYLIGHT
BEGIN:STANDARD
TZOFFSETFROM:+0200
TZOFFSETTO:+0100
TZNAME:CET
DTSTART:20251026T010000
END:STANDARD
BEGIN:DAYLIGHT
TZOFFSETFROM:+0100
TZOFFSETTO:+0200
TZNAME:CEST
DTSTART:20260329T010000
END:DAYLIGHT
BEGIN:STANDARD
TZOFFSETFROM:+0200
TZOFFSETTO:+0100
TZNAME:CET
DTSTART:20261025T010000
END:STANDARD
BEGIN:DAYLIGHT
TZOFFSETFROM:+0100
TZOFFSETTO:+0200
TZNAME:CEST
DTSTART:20270328T010000
END:DAYLIGHT
BEGIN:STANDARD
TZOFFSETFROM:+0200
TZOFFSETTO:+0100
TZNAME:CET
DTSTART:20271031T010000
END:STANDARD
BEGIN:DAYLIGHT
TZOFFSETFROM:+0100
TZOFFSETTO:+0200
TZNAME:CEST
DTSTART:20280326T010000
END:DAYLIGHT
BEGIN:STANDARD
TZOFFSETFROM:+0200
TZOFFSETTO:+0100
TZNAME:CET
DTSTART:20281029T010000
END:STANDARD
END:VTIMEZONE
BEGIN:VEVENT
DTSTART;TZID=Europe/Zurich:20260830T193000
DTEND;TZID=Europe/Zurich:20260830T193000
DTSTAMP:20260420T170134
CREATED:20260414T125219Z
LAST-MODIFIED:20260417T124225Z
UID:10000822-1788118200-1788118200@www.kulturforum-amriswil.ch
SUMMARY:«Saborea la vida – koste das Leben»
DESCRIPTION:Buenas noches \nEin lauer Sommerabend\, eine sanfte Meeresbrise\, der Duft von Oleander und Rosmarin\, die ersten Sterne am Abendhimmel: Saborea la vida – koste das Leben! Spanisch-mediterrane Musik\, südliche Klänge voller Lebensfreude\, Romantik\, Melancholie und Rhythmus. Kraftvolle Stimme zu Akkordeon-Klavier und Gitarrenbegleitung. \nGeniessen Sie dazu spanische Spezialitäten aus den verschiedensten Regionen des Landes – frisch zubereitet\, aromatisch jedes Gericht erzählt eine Geschichte. \nAusführende: \nIsabel Cangelosi\, Sopran\nAlexander Grob\, Tenor\nVanessa Diem\, Gitarre\nGhenadie Rotari\, Akkordeon\nThomas Haubrich\, Klavier \nEssen und Getränke: Schwarz Delikatessen\, Erlen und WEINFACH\, Amriswil \nEintritt:\nCHF 70.- \nTickets nur im Vorverkauf über: eventfrog\, info@amriswiler-konzerte.ch oder telefonisch unter 078 768 35 96 \nDer Vorverkauf startet Anfang Mai. \nKeine Abendkasse! \nTüröffnung: 19.00 Uhr \nKonzertbeginn: 19.30 Uhr \nVeranstalter: Amriswiler Konzerte – Leben mit Musik (amriswiler-konzerte.ch) \nBei Fragen zur Veranstaltung wenden Sie sich bitte direkt an den Veranstalter.
URL:https://www.kulturforum-amriswil.ch/event/saborea-la-vida-koste-das-leben/
LOCATION:Kulturforum Amriswil\, Bahnhofstrasse 22\, Amriswil\, 8580\, Schweiz
CATEGORIES:Konzert,Kulinarik
ATTACH;FMTTYPE=image/jpeg:https://www.kulturforum-amriswil.ch/wp-content/uploads/2026/04/Saborea-la-vida.jpeg
GEO:47.5481064;9.3026992
X-APPLE-STRUCTURED-LOCATION;VALUE=URI;X-ADDRESS=Kulturforum Amriswil Bahnhofstrasse 22 Amriswil 8580 Schweiz;X-APPLE-RADIUS=500;X-TITLE=Bahnhofstrasse 22:geo:9.3026992,47.5481064
END:VEVENT
BEGIN:VEVENT
DTSTART;TZID=Europe/Zurich:20260912T193000
DTEND;TZID=Europe/Zurich:20260912T213000
DTSTAMP:20260420T170134
CREATED:20260413T144453Z
LAST-MODIFIED:20260413T144453Z
UID:10000821-1789241400-1789248600@www.kulturforum-amriswil.ch
SUMMARY:Chor über dem Bodensee – The Music of 007-James Bond trifft Chor und Bigband
DESCRIPTION:In einem szenisch erzählten Konzertprojekt interpretiert unser Chor legendäre Bond-Filmmusik als musikalische Agentenmission. Kraftvolle Stimmen\, jazzige Bläsersätze und ikonische Melodien verschmelzen zu einem spannungsgeladenen Live-Erlebnis mit hohem Unterhaltungswert und breiter Publikumswirkung. \nEin Abend voller Wiedererkennung\, Nervenkitzel und musikalischer Intensität – ganz im Stil von 007. \nKünstlerwebseite: chorueberdembodensee.ch \nEintritt:\nCHF 35.- für Erwachsene\nKinder bis 12 Jahre gratis \nTickets\nüber Eventfrog \nPlätze\nFreie Platzwahl – keine nummerierten Plätze! \nTüröffnung / Abendkasse\nAb 18.30 Uhr \nVeranstalter\nchorueberdembodensee.ch \nBei Fragen zur Veranstaltung wenden Sie sich bitte direkt an den Veranstalter.
URL:https://www.kulturforum-amriswil.ch/event/the-music-of-007-james-bond-trifft-chor-und-bigband/
LOCATION:Kulturforum Amriswil\, Bahnhofstrasse 22\, Amriswil\, 8580\, Schweiz
CATEGORIES:Konzert
ATTACH;FMTTYPE=image/webp:https://www.kulturforum-amriswil.ch/wp-content/uploads/2026/04/Chor-ueber-dem-Bodensee-007.webp
GEO:47.5481064;9.3026992
X-APPLE-STRUCTURED-LOCATION;VALUE=URI;X-ADDRESS=Kulturforum Amriswil Bahnhofstrasse 22 Amriswil 8580 Schweiz;X-APPLE-RADIUS=500;X-TITLE=Bahnhofstrasse 22:geo:9.3026992,47.5481064
END:VEVENT
BEGIN:VEVENT
DTSTART;TZID=Europe/Zurich:20260925T201500
DTEND;TZID=Europe/Zurich:20260925T223000
DTSTAMP:20260420T170134
CREATED:20260414T160547Z
LAST-MODIFIED:20260416T130638Z
UID:10000826-1790367300-1790375400@www.kulturforum-amriswil.ch
SUMMARY:Manuel Stahlberger - Es geht
DESCRIPTION:Wir stehen am Buffet. Die Auswahl ist riesig. Vieles wird zwar immer ähnlicher\, aber es hat noch von allem. Bodenlosigkeit und Zukunftsangst sogar noch mehr als früher. Aber wie  war das eigentlich vor zweieinhalb Millionen Jahren\, in der Steinzeit? Was lag da auf den  Buffets? Und war davor\, als die Welt ein Gemisch aus Elementen und Schleim war\, alles einfacher? Oder nur anders? Und werden Sachen leichter\, weil sie die ganze Zeit beschleunigt werden? Es geht.  \nIn seinem neuen Solo-Programm schöpft sich Manuel Stahlberger einen Teller voll und serviert uns das ganze Durcheinander in kleinen Happen. Darunter Höhlenmalereien und Faustkeile seiner Verwandtschaft von damals aber auch Dokumente aus der Gegenwart: Weihnachtsfilme\, Kunst aus Sulz\, Berichte aus der Hitze und Lieder von der Aufräum-Weltmeisterschaft. Ein Teller voller Lakonie\, serviert mit staubtrockenem Humor – wie wir es von Stahlberger auch gewohnt sind. Ein abendfüllendes Programm\, begleitet mit Diashows\, Videos und Liedern. \nKünstlerwebseite\nwww.manuelstahlberger.ch \n\n\n\n \n\nEintritt\nCHF 35.- / 25.- mit Kulturabo\, Legi\, IV\nCHF 25.- mit Kulturlegi der Caritas\nCHF 15.- für Jugendliche bis 18 Jahre \nTickets\nüber Eventfrog\noder kulturforum-amriswil.ch (Einzeltickets)\noder direkt an der Abendkasse \nPlätze\nFreie Platzwahl – keine nummerierten Plätze! \nAbendkasse und Barbetrieb\nAb 19.00 Uhr
URL:https://www.kulturforum-amriswil.ch/event/manuel-stahlberger-es-geht/
LOCATION:Kulturforum Amriswil\, Bahnhofstrasse 22\, Amriswil\, 8580\, Schweiz
CATEGORIES:Comedy,Musik
ATTACH;FMTTYPE=image/jpeg:https://www.kulturforum-amriswil.ch/wp-content/uploads/2026/04/Manuel_Stahlberger_2©Andrin_Fretz.jpg
ORGANIZER;CN="Verein Kulturforum Amriswil":MAILTO:info@kulturforum-amriswil.ch
GEO:47.5481064;9.3026992
X-APPLE-STRUCTURED-LOCATION;VALUE=URI;X-ADDRESS=Kulturforum Amriswil Bahnhofstrasse 22 Amriswil 8580 Schweiz;X-APPLE-RADIUS=500;X-TITLE=Bahnhofstrasse 22:geo:9.3026992,47.5481064
END:VEVENT
BEGIN:VEVENT
DTSTART;TZID=Europe/Zurich:20261018T170000
DTEND;TZID=Europe/Zurich:20261018T183000
DTSTAMP:20260420T170134
CREATED:20260414T133511Z
LAST-MODIFIED:20260417T124457Z
UID:10000823-1792342800-1792348200@www.kulturforum-amriswil.ch
SUMMARY:Duo Resonance - LARMES ET RIRES
DESCRIPTION:Duo Resonance – Magie der Klangfarben \nDie Amriswiler Harfenistin Julia Kreyenbühl und die Frauenfelder Cellistin Eva Maria Hux (wohnhaft in Stockholm) haben sich zu einem klangvollen Duo zusammengeschlossen\, das atmosphärische\, klangfreudige und effektvolle Musik aus diversen Epochen und Genres ergründet. Dabei mischen sie Originales mit eigenen Arrangements von Kompositionen\, die ursprünglich für andere Instrumente geschrieben wurden aber zu schön sind\, um nicht auch mit Cello und Harfe gespielt zu werden. Die Klangpalette reicht von Romantik bis Neuzeit\, von Impressionismus bis Minimalismus und schliesst auch Tango und italienische Opernpassion mit ein. Ein Fest für alle Sinne. \nLuigi Maurizio Tedeschi (1867–1944): Elegia op. 22\nMaurizio Bignone (*1968): Respiro\nGabriel Verdalle (1847–1918): Larmes et rires Op. 32\nMaurizio Bignone: Free\nBernard Andrès (*1941): Chants d’arrière-saison\nGeorg Walter Huber (1874–1942): Fantasie für Cello und Harfe Op. 13\nPearl Chertok (1918–1981): Harpicide at Midnight\nMarcel Tournier (1879–1951): Deux préludes romantiques Op. 17\nTrad. Klezmer: Moskovitch für Cello solo (arr. Eva Maria Hux)\nAstor Piazzolla (1921–1992): Vuelvo al sur – Chiquilin de Bachin – Adios nonino \n  \nAusführende: \nEva Maria Hux\, Cello\nJulia Kreyenbühl-Gschwend\, Harfe \n  \nEintritt: CHF 25.- \nTüröffnung und Tageskasse: 16.00 Uhr \nKonzertbeginn: 17.00 Uhr \nTickets: eventfrog\, Tageskasse\, info@amriswiler-konzerte.ch oder telefonisch unter 078 768 35 96. (Der Vorverkauf startet Anfang Mai. \nVeranstalter: Amriswiler Konzerte – Leben mit Musik (amriswiler-konzerte.ch) \nBei Fragen zur Veranstaltung wenden Sie sich bitte direkt an den Veranstalter.
URL:https://www.kulturforum-amriswil.ch/event/larmes-et-rires/
LOCATION:Kulturforum Amriswil\, Bahnhofstrasse 22\, Amriswil\, 8580\, Schweiz
CATEGORIES:Konzert
ATTACH;FMTTYPE=image/png:https://www.kulturforum-amriswil.ch/wp-content/uploads/2026/04/Larmes-et-rire.png
GEO:47.5481064;9.3026992
X-APPLE-STRUCTURED-LOCATION;VALUE=URI;X-ADDRESS=Kulturforum Amriswil Bahnhofstrasse 22 Amriswil 8580 Schweiz;X-APPLE-RADIUS=500;X-TITLE=Bahnhofstrasse 22:geo:9.3026992,47.5481064
END:VEVENT
BEGIN:VEVENT
DTSTART;TZID=Europe/Zurich:20261023T201500
DTEND;TZID=Europe/Zurich:20261023T223000
DTSTAMP:20260420T170134
CREATED:20260415T132858Z
LAST-MODIFIED:20260415T132858Z
UID:10000827-1792786500-1792794600@www.kulturforum-amriswil.ch
SUMMARY:Michel Gammenthaler - Impossible
DESCRIPTION:Wer ist schuld? Die Technik\, der Perfektionismus oder der Mitmensch? Selbst einfache Unterfangen wie die Reparatur einer Waschmaschine\, das Nachbestellen von Kaffeekapseln oder die Kommunikation mit dem Gegenüber mutieren zu unlösbaren Problemen.   \nDer Komiker wälzt sich in den Unmöglichkeiten des Lebens. Der Zauberer erschafft unmögliche Wirklichkeiten. Michel Gammenthaler ist beides und verführt sein Publikum zur charmanten Komplizenschaft.   \nPointiert. Verblüffend. Interaktiv.  \nImpossible – das neue Programm von Michel Gammenthaler \nKünsterwebseite\nwww.michel-gammenthaler.ch \n\n\n\n\n \nEintritt\nCHF 35.- / 25.- mit Kulturabo\, Legi\, IV\nCHF 25.- mit Kulturlegi der Caritas\nCHF 15.- für Jugendliche bis 18 Jahre \nTickets\nüber Eventfrog\noder kulturforum-amriswil.ch (Einzeltickets)\noder direkt an der Abendkasse \nPlätze\nFreie Platzwahl – keine nummerierten Plätze! \nAbendkasse und Barbetrieb\nAb 19.00 Uhr
URL:https://www.kulturforum-amriswil.ch/event/michel-gammenthaler-impossible/
LOCATION:Kulturforum Amriswil\, Bahnhofstrasse 22\, Amriswil\, 8580\, Schweiz
CATEGORIES:Komik und Zauberkunst
ATTACH;FMTTYPE=image/jpeg:https://www.kulturforum-amriswil.ch/wp-content/uploads/2026/04/Pressebild-IMPOSSIBLE-Querformat-scaled.jpg
ORGANIZER;CN="Verein Kulturforum Amriswil":MAILTO:info@kulturforum-amriswil.ch
GEO:47.5481064;9.3026992
X-APPLE-STRUCTURED-LOCATION;VALUE=URI;X-ADDRESS=Kulturforum Amriswil Bahnhofstrasse 22 Amriswil 8580 Schweiz;X-APPLE-RADIUS=500;X-TITLE=Bahnhofstrasse 22:geo:9.3026992,47.5481064
END:VEVENT
BEGIN:VEVENT
DTSTART;TZID=Europe/Zurich:20261113T201500
DTEND;TZID=Europe/Zurich:20261113T223000
DTSTAMP:20260420T170134
CREATED:20260328T144257Z
LAST-MODIFIED:20260416T095137Z
UID:10000815-1794600900-1794609000@www.kulturforum-amriswil.ch
SUMMARY:Bänz Friedli - Bänz Friedli räumt auf
DESCRIPTION:Mit der Verleihung des «Prix Cornichon» wurde ihm im Mai 2024 an den Oltner Kabarett-Tagen die höchste Ehre im Schweizer Humor zuteil\, seit Januar 2025 zeigt er in durchwegs ausverkauften Häusern sein neues Programm: «Bänz Friedli räumt auf»\, bald nachdenklich\, bald zum Brüllen komisch. Und immer aktuell! «Man glaubt es kaum\, aber Bänz Friedli wird tatsächlich immer noch besser»\, schrieb Manfred Papst dazu in der «NZZ am Sonntag». \nMit Elementen aus Stand-up\, Satire und Lesung hat Friedli seinen ureigenen Stil geprägt: erzählerisches Kabarett\, radikal politisch und radikal persönlich. Im sechsten Soloprogramm fächert der Dialektvirtuose und Persifleur sein ganzes Können aus: Er stösst auf überraschende Fundstücke aus der eigenen Kindheit\, versucht sich im Zwiegespräch mit der Grossmutter und einer dereinstigen Enkelin einen Reim auf die Gegenwart zu machen und blickt in die Zukunft: Wie gelingt es uns\, in düsteren Zeiten die Zuversicht zu behalten? \nGemeinsam mit Regisseur Alexander Götz hat Friedli einen Theaterabend erarbeitet\, der sich von den gängigen Comedy-Schemen entfernt hat und in dem das Publikum sich von den Sorgen des Alltags befreien kann\, indem es über just diese Sorgen lacht. \n«Punkto Satire und Kabarett ist er schlicht ‹the Master›»\, urteilte die Comédienne Jane Mumford über Friedli\, und für Altmeister Emil gilt: «In der Schweiz ist Bänz einfach der Beste!» \nKünstlerwebseite\nwww.baenzfriedli.ch \n\n\n\n\n \nEintritt\nCHF 40.- / 30.- mit Kulturabo\, Legi\, IV\nCHF 30.- mit Kulturlegi der Caritas\nCHF 20.- für Jugendliche bis 18 Jahre \nTickets\nüber Eventfrog\noder kulturforum-amriswil.ch (Einzeltickets)\noder direkt an der Abendkasse \nPlätze\nFreie Platzwahl – keine nummerierten Plätze! \nAbendkasse und Barbetrieb\nAb 19.00 Uhr
URL:https://www.kulturforum-amriswil.ch/event/baenz-friedli-raeumt-auf/
LOCATION:Kulturforum Amriswil\, Bahnhofstrasse 22\, Amriswil\, 8580\, Schweiz
CATEGORIES:Kabarett
ATTACH;FMTTYPE=image/jpeg:https://www.kulturforum-amriswil.ch/wp-content/uploads/2026/03/Baenz-Friedli_quer_2024_HIRES-9566-scaled.jpg
ORGANIZER;CN="Verein Kulturforum Amriswil":MAILTO:info@kulturforum-amriswil.ch
GEO:47.5481064;9.3026992
X-APPLE-STRUCTURED-LOCATION;VALUE=URI;X-ADDRESS=Kulturforum Amriswil Bahnhofstrasse 22 Amriswil 8580 Schweiz;X-APPLE-RADIUS=500;X-TITLE=Bahnhofstrasse 22:geo:9.3026992,47.5481064
END:VEVENT
BEGIN:VEVENT
DTSTART;TZID=Europe/Zurich:20261114T140000
DTEND;TZID=Europe/Zurich:20261114T153000
DTSTAMP:20260420T170134
CREATED:20260414T134701Z
LAST-MODIFIED:20260417T123752Z
UID:10000824-1794664800-1794670200@www.kulturforum-amriswil.ch
SUMMARY:Andrew Bond - WALDWICHTEL-WUNDERSCHÄTZ
DESCRIPTION:Musikalische Naturerlebnisse mit Andrew Bond \nAuch wenn ihn vielleicht der eine oder andere Erwachsene nicht oder noch nicht kennt: Die Kinder kennen und singen seine Lieder dafür in- und auswendig. Andrew Bond gibt über 100 Konzerte pro Jahr in der Schweiz\, in den meisten Fällen vor ausverkauftem Haus. Entsprechend haben sich einige seiner CDs wie «Zimetschtern han i gern»\, «Suneschtraal tanz emaal»\, «Schternefeischter» oder auch «Mitsing*Wienacht» zu wahren Klassikern entwickelt. Aus den meisten Familienstuben\, Kindergärten und Schulzimmern der Deutschschweiz sind seine einfühlsam getexteten und melodiösen Kompositionen heute nicht mehr wegzudenken. \n  \n \n  \nEintritt:\nErwachsene: CHF 20.-\nKinder und Jugendliche bis 16 Jahre: CHF 10.- \nTickets: eventfrog oder direkt an der Konzertkasse ab 13.00 Uhr. Der Vorverkauf startet Anfang Mai. \nTüröffnung: 13.00 Uhr \nKonzertbeginn: 14.00 Uhr \nVeranstalter: Amriswiler Konzerte – Leben mit Musik (amriswiler-konzerte.ch) \nBei Fragen zur Veranstaltung wenden Sie sich bitte direkt an den Veranstalter.
URL:https://www.kulturforum-amriswil.ch/event/andrew-bond-2/
LOCATION:Kulturforum Amriswil\, Bahnhofstrasse 22\, Amriswil\, 8580\, Schweiz
CATEGORIES:Kinder,Konzert
ATTACH;FMTTYPE=image/jpeg:https://www.kulturforum-amriswil.ch/wp-content/uploads/2026/04/Foto-Andrew-Bond-scaled.jpg
GEO:47.5481064;9.3026992
X-APPLE-STRUCTURED-LOCATION;VALUE=URI;X-ADDRESS=Kulturforum Amriswil Bahnhofstrasse 22 Amriswil 8580 Schweiz;X-APPLE-RADIUS=500;X-TITLE=Bahnhofstrasse 22:geo:9.3026992,47.5481064
END:VEVENT
BEGIN:VEVENT
DTSTART;TZID=Europe/Zurich:20261231T203000
DTEND;TZID=Europe/Zurich:20270101T010000
DTSTAMP:20260420T170134
CREATED:20260414T140414Z
LAST-MODIFIED:20260417T123947Z
UID:10000825-1798749000-1798765200@www.kulturforum-amriswil.ch
SUMMARY:FINALE GRANDE - SILVESTER IM DREIKLANG
DESCRIPTION:MUSIC – DINNER  \nLassen Sie das alte Jahr hinter sich und feiern Sie den Jahreswechsel in einer einzigartigen Atmosphäre im Kulturforum Amriswil. Das Ensemble Amriswiler Klangwurzeln & Friends bietet Highlights aus Musical\, Oper und klassischer Instrumentalmusik. \nKulinarisch verwöhnt Sie SCHWARZ DELIKATESSEN in drei Gängen und WEINFACH mit einem gut abgestimmten Getränkeangebot. \nFINALE GRANDE ein musikalisch –  gastronomisches Erlebnis! \n  \nMUSIC\nAmriswiler Klangwurzeln & Friends:\nFabio Signer\, Saxophon\nKarl Svec\, Trompete & Flügelhorn\nThomas Haubrich\, Klavier\nAlexander Grob\, Tenor\nIsabel Cangelosi\, Sopran \n  \nDINNER\nSCHWARZ DELIKATESSEN – Manuel Schwarz\, Amriswil\nWEINFACH – Petra Stoios\, Amriswil \n  \nEintritt:\nCHF 95.00 \nTickets nur im Vorverkauf über:\nEventfrog\, info@amriswiler-konzerte.ch oder telefonisch unter 078 768 35 96 (Der Vorverkauf startet Anfang Mai) \nAn der Abendkasse sind keine Tickets erhältlich! \nVeranstalter:\nAmriswiler Konzerte – Leben mit Musik (amriswiler-konzerte.ch) \nBei Fragen zur Veranstaltung wenden Sie sich bitte direkt an den Veranstalter.
URL:https://www.kulturforum-amriswil.ch/event/finale-grande-silvester-im-dreiklang-2/
LOCATION:Kulturforum Amriswil\, Bahnhofstrasse 22\, Amriswil\, 8580\, Schweiz
CATEGORIES:Kulinarik,Musik
ATTACH;FMTTYPE=image/jpeg:https://www.kulturforum-amriswil.ch/wp-content/uploads/2026/04/Foto-Finale-grande.jpg
GEO:47.5481064;9.3026992
X-APPLE-STRUCTURED-LOCATION;VALUE=URI;X-ADDRESS=Kulturforum Amriswil Bahnhofstrasse 22 Amriswil 8580 Schweiz;X-APPLE-RADIUS=500;X-TITLE=Bahnhofstrasse 22:geo:9.3026992,47.5481064
END:VEVENT
BEGIN:VEVENT
DTSTART;TZID=Europe/Zurich:20270305T200000
DTEND;TZID=Europe/Zurich:20270305T221500
DTSTAMP:20260420T170134
CREATED:20260131T112609Z
LAST-MODIFIED:20260131T112609Z
UID:10000813-1804276800-1804284900@www.kulturforum-amriswil.ch
SUMMARY:Helga Schneider - Ich weiss
DESCRIPTION:Comedy ganz in Weiss – mit schwarzem Humor und altklugen Weisheiten \nHelga Schneider teilt noch einmal kräftig aus: Mit ihrer Frauenpower\, Stimmgewalt und Bühnenpräsenz bringt sie ihr Publikum in ihrem 6. Soloprogramm wieder zum Lachen. Auch mit 60 ist Helga längst nicht K.o.! Sie verteilt mit ihrer Schlagfertigkeit verbale Kinnhaken in alle Richtungen. \nNach bald 40 Jahren Showbusiness in den Knochen und mit 1965 im Pass fragt sie sich\, wann ist fertig lustig? Ist das Verbrauchsdatum zum Greifen nahe\, sollte man beginnen\, die Alterspubertät auszuleben. Schneeweiss und (k)ein bisschen weiser\, will Helga es noch einmal wissen: Wäre es nicht höchste Zeit für eine Hochzeit ganz in Weiss? Denn Weiss ist ein buntes Feuerwerk\, ein spektrales Ereignis aus Rot-Grün-Blau und keineswegs unbunt\, wie die Wissenschaft behauptet. Helga ist zwar eher rot und grün\, aber auch gerne mal blau. Die Natur lebt es uns vor: Nach der Blüte kommt die Frucht! Und reife Früchte sollte man nicht spritzen\, sondern ernten! \nKünstlerwebseite: helgaschneider.ch \n  \nVeranstalter: rhc gmbh\, info@rhc.ch \nTickets: Ticketcorner \nAltersbegrenzung: ab 6 Jahren \nTüröffnung: 19.30 Uhr \nTages-/Abendkasse: 071 540 40 10 (nach Vorverkaufsschluss) \nAbendkasse nur\, wenn die Show im Vorfeld nicht bereits ausverkauft ist. \nBei Fragen zur Veranstaltung wenden Sie sich bitte direkt an den Veranstalter.
URL:https://www.kulturforum-amriswil.ch/event/helga-schneider-ich-weiss/
LOCATION:Kulturforum Amriswil\, Bahnhofstrasse 22\, Amriswil\, 8580\, Schweiz
CATEGORIES:Comedy
ATTACH;FMTTYPE=image/png:https://www.kulturforum-amriswil.ch/wp-content/uploads/2026/01/HS_IchWeiss_1920x1080px_72ppi_e1_2-6c3a19bb29a1fb6f71c609b5617fbe34.png
ORGANIZER;CN="rhc event&amp%3Bmanagement gmbh":MAILTO:bettina@rhc.ch
GEO:47.5481064;9.3026992
X-APPLE-STRUCTURED-LOCATION;VALUE=URI;X-ADDRESS=Kulturforum Amriswil Bahnhofstrasse 22 Amriswil 8580 Schweiz;X-APPLE-RADIUS=500;X-TITLE=Bahnhofstrasse 22:geo:9.3026992,47.5481064
END:VEVENT
BEGIN:VEVENT
DTSTART;TZID=Europe/Zurich:20270416T201500
DTEND;TZID=Europe/Zurich:20270416T220000
DTSTAMP:20260420T170134
CREATED:20260413T134445Z
LAST-MODIFIED:20260417T165409Z
UID:10000819-1807906500-1807912800@www.kulturforum-amriswil.ch
SUMMARY:Chris & Mike – "unique"
DESCRIPTION:CHRIS & MIKE – «unique» \nNach dem fulminanten Start ihres neuen Programms „unique“ kommen CHRIS & MIKE damit nochmals zu uns ins Kulturforum! \nPIANO ENTERTAINMENT: Seit 35 Jahren touren CHRIS & MIKE – aus Leidenschaft – mit ihren Showpianos und Unterhaltungslust durchs Land und begeistern damit an Konzerten\, Firmenevents oder privaten Parties. Mit ihrem neuen Programm “unique” sprechen die beiden Piano-Entertainer Besucher verschiedener Altersklassen vollumfänglich an. «Wir sind musikalische Geschichtenerzähler\, gleichwohl unsere Zuschauer ein fetziges\, emotionales\, be-swingtes und im wahren Sinne des Wortes «vielsaitiges» Konzert erleben – mit 176 Tasten\, zwei Stimmen\, Bluesharp und Band – je nach Ort». \nCHRIS & MIKE haben sich zum Ziel gesetzt\, aktiv die «farbige Note zu betonen»\, den «rhythmischen Akzent zu setzen» sowie die «pianistisch verspielte Buntheit zu zelebrieren». Was das konkret heisst? Man finde es selbst heraus!\n2 Brüder – 2 Pianos – 4 Hände – 35 Jahre – 1 Leidenschaft:\nThat’s Chris & Mike-Piano Entertainment – that’s «unique»! \nKünstlerwebseite: chrismike.ch \n \nEintritt:\nCHF 29.- für Kinder und Jugendliche bis 14 Jahre\nCHF 42.- für Erwachsene \nTickets\nüber Eventfrog \nPlätze\nFreie Platzwahl – keine nummerierten Plätze! \nTüröffnung / Abendkasse\nAb 19.00 Uhr \nVeranstalter\nchrismike.ch \nBei Fragen zur Veranstaltung wenden Sie sich bitte direkt an den Veranstalter.
URL:https://www.kulturforum-amriswil.ch/event/unique-2/
LOCATION:Kulturforum Amriswil\, Bahnhofstrasse 22\, Amriswil\, 8580\, Schweiz
CATEGORIES:Konzert
ATTACH;FMTTYPE=image/webp:https://www.kulturforum-amriswil.ch/wp-content/uploads/2025/06/ChrisMike-premiere25-002-EEM31LOP.webp
ORGANIZER;CN="Chris & Mike GmbH":MAILTO:contact@chrismike.ch
GEO:47.5481064;9.3026992
X-APPLE-STRUCTURED-LOCATION;VALUE=URI;X-ADDRESS=Kulturforum Amriswil Bahnhofstrasse 22 Amriswil 8580 Schweiz;X-APPLE-RADIUS=500;X-TITLE=Bahnhofstrasse 22:geo:9.3026992,47.5481064
END:VEVENT
BEGIN:VEVENT
DTSTART;TZID=Europe/Zurich:20271103T200000
DTEND;TZID=Europe/Zurich:20271103T223000
DTSTAMP:20260420T170134
CREATED:20260413T140338Z
LAST-MODIFIED:20260413T140338Z
UID:10000820-1825272000-1825281000@www.kulturforum-amriswil.ch
SUMMARY:Comedy-Duo Messer & Gabel | WandStand
DESCRIPTION:WandStand“ | Das neue Bühnenprogramm \nKopfüber in die Comedy-Welt! In ihrem neuesten abendfüllenden Programm „WandStand“ stellen das beliebte Comedy-Duo Messer & Gabel die Schwerkraft auf den Kopf. Erleben Sie\, wie die beiden mit einem bunten Mix aus Situationskomik\, Mimik und cleveren Wortspielen das Publikum zum Lachen bringen – ganz aus einer neuen Perspektive! \n„WandStand“ lädt Sie ein\, den Alltag hinter sich zu lassen und sich in eine Welt voller Witz und Humor zu begeben. Die beiden Komiker jonglieren mit skurrilen Alltagsmomenten und lassen dabei kein Auge trocken. Seien Sie bereit für ein wandwitziges Programm\, das Sie nicht nur zum Lachen bringt\, sondern auch zum Nachdenken anregt. \nFreuen Sie sich auf einen unvergesslichen Abend voller Emotionen\, Lachen und vielleicht ein paar unerwarteten Überraschungen. Kommen Sie vorbei und erleben Sie Köbi und Jock von einer neuen Seite – Kopf über\, aber garantiert mit beiden Beinen fest im Leben! \nWir wünschen Ihnen viel Spaß und freuen uns darauf\, Sie bei „WandStand“ willkommen zu heissen! \n  \nKünstlerwebseite: www.dmug.ch \nVeranstalter: rhc gmbh\, info@rhc.ch \nTickets: Ticketcorner \nTüröffnung: 19.00 Uhr \nAbendkasse nur\, wenn die Show im Vorfeld nicht bereits ausverkauft ist. \nBei Fragen zur Veranstaltung wenden Sie sich bitte direkt an den Veranstalter.
URL:https://www.kulturforum-amriswil.ch/event/messer-gabel-wandstand-2/
LOCATION:Kulturforum Amriswil\, Bahnhofstrasse 22\, Amriswil\, 8580\, Schweiz
CATEGORIES:Comedy
ATTACH;FMTTYPE=image/jpeg:https://www.kulturforum-amriswil.ch/wp-content/uploads/2025/01/comedy-duo-messer-gabel-tickets-2025-1.jpg
ORGANIZER;CN="rhc event&amp%3Bmanagement gmbh":MAILTO:bettina@rhc.ch
GEO:47.5481064;9.3026992
X-APPLE-STRUCTURED-LOCATION;VALUE=URI;X-ADDRESS=Kulturforum Amriswil Bahnhofstrasse 22 Amriswil 8580 Schweiz;X-APPLE-RADIUS=500;X-TITLE=Bahnhofstrasse 22:geo:9.3026992,47.5481064
END:VEVENT
END:VCALENDAR